BEGIN:VCALENDAR
VERSION:2.0
PRODID:-//The Sober Curator - ECPv6.15.20//NONSGML v1.0//EN
CALSCALE:GREGORIAN
METHOD:PUBLISH
X-ORIGINAL-URL:https://thesobercurator.com
X-WR-CALDESC:Events for The Sober Curator
REFRESH-INTERVAL;VALUE=DURATION:PT1H
X-Robots-Tag:noindex
X-PUBLISHED-TTL:PT1H
BEGIN:VTIMEZONE
TZID:America/Chicago
BEGIN:DAYLIGHT
TZOFFSETFROM:-0600
TZOFFSETTO:-0500
TZNAME:CDT
DTSTART:20250309T080000
END:DAYLIGHT
BEGIN:STANDARD
TZOFFSETFROM:-0500
TZOFFSETTO:-0600
TZNAME:CST
DTSTART:20251102T070000
END:STANDARD
BEGIN:DAYLIGHT
TZOFFSETFROM:-0600
TZOFFSETTO:-0500
TZNAME:CDT
DTSTART:20260308T080000
END:DAYLIGHT
BEGIN:STANDARD
TZOFFSETFROM:-0500
TZOFFSETTO:-0600
TZNAME:CST
DTSTART:20261101T070000
END:STANDARD
BEGIN:DAYLIGHT
TZOFFSETFROM:-0600
TZOFFSETTO:-0500
TZNAME:CDT
DTSTART:20270314T080000
END:DAYLIGHT
BEGIN:STANDARD
TZOFFSETFROM:-0500
TZOFFSETTO:-0600
TZNAME:CST
DTSTART:20271107T070000
END:STANDARD
END:VTIMEZONE
BEGIN:VEVENT
DTSTART;TZID=America/Chicago:20260415T190000
DTEND;TZID=America/Chicago:20260415T210000
DTSTAMP:20260424T103047
CREATED:20260314T035832Z
LAST-MODIFIED:20260314T035832Z
UID:10004529-1776279600-1776286800@thesobercurator.com
SUMMARY:Sober Speed Dating
DESCRIPTION:Sober Speed Dating\nHere at Hot Potato Hearts we celebrate relationships of all kinds\, this event is for our spuds seeking relationships not centered around drinking . Hot Potato Hearts is an inclusive community focused on building meaningful connections in low-pressure\, casual safe spaces. Our speed dating is just like typical speed dating. You go on multiple 5 minute dates\, anonymously write down who you like\, & get emailed your matches the next day. However\, at Hot Potato Hearts\, we invite people of all genders and sexualities to date. We do not pair people based on their sexual orientation; who you date is completely random\, so you can get a romantic date or make some new friends!
URL:https://thesobercurator.com/event/sober-speed-dating/
LOCATION:Women and Children First\, 5233 North Clark St.\, Chicago\, IL\, 60640\, United States
CATEGORIES:Chicago
ATTACH;FMTTYPE=image/png:https://thesobercurator.com/wp-content/uploads/2026/03/Sober-Speed-Dating.png
END:VEVENT
END:VCALENDAR