BEGIN:VCALENDAR
VERSION:2.0
PRODID:-//The Sober Curator - ECPv6.15.20//NONSGML v1.0//EN
CALSCALE:GREGORIAN
METHOD:PUBLISH
X-WR-CALNAME:The Sober Curator
X-ORIGINAL-URL:https://thesobercurator.com
X-WR-CALDESC:Events for The Sober Curator
REFRESH-INTERVAL;VALUE=DURATION:PT1H
X-Robots-Tag:noindex
X-PUBLISHED-TTL:PT1H
BEGIN:VTIMEZONE
TZID:America/Chicago
BEGIN:DAYLIGHT
TZOFFSETFROM:-0600
TZOFFSETTO:-0500
TZNAME:CDT
DTSTART:20250309T080000
END:DAYLIGHT
BEGIN:STANDARD
TZOFFSETFROM:-0500
TZOFFSETTO:-0600
TZNAME:CST
DTSTART:20251102T070000
END:STANDARD
BEGIN:DAYLIGHT
TZOFFSETFROM:-0600
TZOFFSETTO:-0500
TZNAME:CDT
DTSTART:20260308T080000
END:DAYLIGHT
BEGIN:STANDARD
TZOFFSETFROM:-0500
TZOFFSETTO:-0600
TZNAME:CST
DTSTART:20261101T070000
END:STANDARD
BEGIN:DAYLIGHT
TZOFFSETFROM:-0600
TZOFFSETTO:-0500
TZNAME:CDT
DTSTART:20270314T080000
END:DAYLIGHT
BEGIN:STANDARD
TZOFFSETFROM:-0500
TZOFFSETTO:-0600
TZNAME:CST
DTSTART:20271107T070000
END:STANDARD
END:VTIMEZONE
BEGIN:VEVENT
DTSTART;TZID=America/Chicago:20260514T183000
DTEND;TZID=America/Chicago:20260514T203000
DTSTAMP:20260422T223910
CREATED:20260420T034705Z
LAST-MODIFIED:20260420T035156Z
UID:10004667-1778783400-1778790600@thesobercurator.com
SUMMARY:Sip to Sustain: Zero‑Proof Mocktails & Rituals for the Season of More
DESCRIPTION:Sip to Sustain: Zero‑Proof Mocktails & Rituals for the Season of More\n\n\nModern mocktails\, grounding rituals\, and everyday boosters for energy\, clarity\, and recovery. A calm moment inside May’s busiest days. \n\n\n\n\nMay is the season of more — more activities\, more deadlines\, more daylight\, more movement\, more to juggle. Sip to Sustain offers modern sips & rituals for the season of more: a lightly boosting\, adaptogen‑forward mocktail experience crafted to support clarity\, ease\, and steady energy. It’s a local collaboration of Beyond Bottleshop functional mocktails and Warrior Nutrition tea boosters! \nThrough the evening\, you’ll explore simple supplements and everyday boosters that can support sustainable energy\, focus\, rest\, and recovery. These are approachable\, real‑life tools you can fold into your daily routine — from morning clarity to afternoon steadiness to evening wind‑down rituals. It’s an easy\, hands‑on way to learn how functional ingredients can help you feel more supported in the season of more. \nExpect citrus‑ and herb‑forward sips\, a sensory garnish bar\, intention‑setting rituals\, and small grounding moments that help you move through a beautifully full month with more calm and more clarity. A soft\, supportive start to summer — steady\, clear\, sustained. \n*non‑alcoholic\, alcohol‑free\, mocktail\, sober‑curious\, wellness\, functional beverages\, adaptogens\, Herbalife\, spring wellness\, mindful drinking\, NA drinks\, sober events\, Springfield wellness\, Springfield Ohio events \n 
URL:https://thesobercurator.com/event/sip-to-sustain-zero-proof-mocktails-rituals-for-the-season-of-more/
LOCATION:Warrior Nutrition\, 1093A Upper Valley Pike Springfield\, OH 45504\, Springfield\, OH\, 45504\, United States
CATEGORIES:NA Tasting,Ohio
ATTACH;FMTTYPE=image/webp:https://thesobercurator.com/wp-content/uploads/2026/04/image-1-1.avif
END:VEVENT
END:VCALENDAR