BEGIN:VCALENDAR
VERSION:2.0
PRODID:-//The Sober Curator - ECPv6.15.20//NONSGML v1.0//EN
CALSCALE:GREGORIAN
METHOD:PUBLISH
X-ORIGINAL-URL:https://thesobercurator.com
X-WR-CALDESC:Events for The Sober Curator
REFRESH-INTERVAL;VALUE=DURATION:PT1H
X-Robots-Tag:noindex
X-PUBLISHED-TTL:PT1H
BEGIN:VTIMEZONE
TZID:Europe/Paris
BEGIN:DAYLIGHT
TZOFFSETFROM:+0100
TZOFFSETTO:+0200
TZNAME:CEST
DTSTART:20250330T010000
END:DAYLIGHT
BEGIN:STANDARD
TZOFFSETFROM:+0200
TZOFFSETTO:+0100
TZNAME:CET
DTSTART:20251026T010000
END:STANDARD
BEGIN:DAYLIGHT
TZOFFSETFROM:+0100
TZOFFSETTO:+0200
TZNAME:CEST
DTSTART:20260329T010000
END:DAYLIGHT
BEGIN:STANDARD
TZOFFSETFROM:+0200
TZOFFSETTO:+0100
TZNAME:CET
DTSTART:20261025T010000
END:STANDARD
BEGIN:DAYLIGHT
TZOFFSETFROM:+0100
TZOFFSETTO:+0200
TZNAME:CEST
DTSTART:20270328T010000
END:DAYLIGHT
BEGIN:STANDARD
TZOFFSETFROM:+0200
TZOFFSETTO:+0100
TZNAME:CET
DTSTART:20271031T010000
END:STANDARD
END:VTIMEZONE
BEGIN:VTIMEZONE
TZID:Europe/London
BEGIN:DAYLIGHT
TZOFFSETFROM:+0000
TZOFFSETTO:+0100
TZNAME:BST
DTSTART:20260329T010000
END:DAYLIGHT
BEGIN:STANDARD
TZOFFSETFROM:+0100
TZOFFSETTO:+0000
TZNAME:GMT
DTSTART:20261025T010000
END:STANDARD
BEGIN:DAYLIGHT
TZOFFSETFROM:+0000
TZOFFSETTO:+0100
TZNAME:BST
DTSTART:20270328T010000
END:DAYLIGHT
BEGIN:STANDARD
TZOFFSETFROM:+0100
TZOFFSETTO:+0000
TZNAME:GMT
DTSTART:20271031T010000
END:STANDARD
BEGIN:DAYLIGHT
TZOFFSETFROM:+0000
TZOFFSETTO:+0100
TZNAME:BST
DTSTART:20280326T010000
END:DAYLIGHT
BEGIN:STANDARD
TZOFFSETFROM:+0100
TZOFFSETTO:+0000
TZNAME:GMT
DTSTART:20281029T010000
END:STANDARD
END:VTIMEZONE
BEGIN:VEVENT
DTSTART;VALUE=DATE:20260802
DTEND;VALUE=DATE:20260811
DTSTAMP:20260424T102329
CREATED:20251217T041537Z
LAST-MODIFIED:20251217T041537Z
UID:10003841-1785628800-1786406399@thesobercurator.com
SUMMARY:Sober Cruising - Sail from Barcelona
DESCRIPTION:Sober Cruising: Sail from Barcelona on August 2\, 2026\, for eight nights with a small sober group (max 25) on Virgin Voyages — a journey of connection\, clarity\, and shared adventure at sea.\nSet sail in August 2026 on an unforgettable 8-night Mediterranean adventure aboard Virgin Voyages’ Scarlet Lady — as part of a small sober-minded group (max 25) within a regular cruise. This adults-only itinerary combines iconic European ports\, stunning coastlines\, and vibrant city life\, beginning and ending in the historic city of Barcelona\, Spain. \nDeparting from Barcelona\, Spain\, this roundtrip cruise first takes you to the Balearic Islands\, with a day ashore in Palma de Mallorca\, Spain — a city known for its grand Gothic cathedral\, sun-drenched beaches\, and winding old town streets. \nAfter a relaxing day at sea\, you’ll arrive in Marseille\, France\, the gateway to Provence. Here\, enjoy the blend of old port charm\, contemporary culture\, and the region’s celebrated cuisine. \nNext is glamorous Cannes\, France\, famed for its palm-lined boulevards\, boutique shopping\, and French Riviera sparkle. Spend time soaking up Mediterranean flair in one of Europe’s most iconic seaside cities. \nThe journey continues to Ajaccio on the island of Corsica (France)\, a Mediterranean gem with dramatic coastal scenery and rich history — including the birthplace of Napoleon Bonaparte. \nFrom there\, you’ll sail to La Spezia\, Italy\, your gateway to Italy’s picturesque Ligurian coastline. La Spezia is perfectly positioned for exploring the colourful cliffside villages of the Cinque Terre or the artistic treasures of nearby Florence and Pisa. \nAfter another day at sea\, the voyage returns to Barcelona\, Spain\, where your Mediterranean experience — rich in culture\, scenery\, and connection — comes full circle. \n 
URL:https://thesobercurator.com/event/sober-cruising-sail-from-barcelona/
CATEGORIES:Sober Retreats,Spain
ATTACH;FMTTYPE=image/png:https://thesobercurator.com/wp-content/uploads/2025/12/Sober-Cruising_-How-to-Enjoy-an-Alcohol-Free-Cruise.avif
ORGANIZER;CN="The Sober Cruise":MAILTO:sober@rocktheboat.travel
END:VEVENT
BEGIN:VEVENT
DTSTART;VALUE=DATE:20270912
DTEND;VALUE=DATE:20270920
DTSTAMP:20260424T102329
CREATED:20260328T161329Z
LAST-MODIFIED:20260328T161425Z
UID:10004574-1820707200-1821398399@thesobercurator.com
SUMMARY:The Sober Cruise Mediterranean Adventure (2027)
DESCRIPTION:The Sober Cruise Mediterranean Adventure (2027)\nSail from Barcelona through Italy and the French Riviera \n7 Night Mediterranean Cruise\n\n\nSet sail on a luxury Mediterranean adventure with The Sober Cruise\, designed for travelers who want connection\, culture\, and unforgettable experiences—without alcohol at the center. Departing from Barcelona\, this curated itinerary explores iconic coastal destinations\, blending stunning ports with world-class dining\, entertainment\, and wellness onboard a Virgin Voyages ship. \nTravel alongside a small group of like-minded sober and sober-curious guests\, with optional meetups\, shared excursions\, and built-in support that never feels forced. Think: sun-soaked cities\, scenic coastlines\, fitness classes\, incredible food\, and meaningful connection—all while staying fully present for every moment. \nThis isn’t a retreat—it’s a holiday first\, offering the freedom to explore on your own or plug into the community as much (or as little) as you like.
URL:https://thesobercurator.com/event/the-sober-cruise-mediterranean-adventure-2027/
CATEGORIES:Sober Retreats
ATTACH;FMTTYPE=image/png:https://thesobercurator.com/wp-content/uploads/2026/03/Amalfi-Coast-in-Italy-is-one-of-the-ports-on-The-Sober-Cruise-in-2027.png
ORGANIZER;CN="The Sober Cruise":MAILTO:sober@rocktheboat.travel
END:VEVENT
END:VCALENDAR