BEGIN:VCALENDAR
VERSION:2.0
PRODID:-//The Sober Curator - ECPv6.15.20//NONSGML v1.0//EN
CALSCALE:GREGORIAN
METHOD:PUBLISH
X-ORIGINAL-URL:https://thesobercurator.com
X-WR-CALDESC:Events for The Sober Curator
REFRESH-INTERVAL;VALUE=DURATION:PT1H
X-Robots-Tag:noindex
X-PUBLISHED-TTL:PT1H
BEGIN:VTIMEZONE
TZID:America/New_York
BEGIN:DAYLIGHT
TZOFFSETFROM:-0500
TZOFFSETTO:-0400
TZNAME:EDT
DTSTART:20250309T070000
END:DAYLIGHT
BEGIN:STANDARD
TZOFFSETFROM:-0400
TZOFFSETTO:-0500
TZNAME:EST
DTSTART:20251102T060000
END:STANDARD
BEGIN:DAYLIGHT
TZOFFSETFROM:-0500
TZOFFSETTO:-0400
TZNAME:EDT
DTSTART:20260308T070000
END:DAYLIGHT
BEGIN:STANDARD
TZOFFSETFROM:-0400
TZOFFSETTO:-0500
TZNAME:EST
DTSTART:20261101T060000
END:STANDARD
BEGIN:DAYLIGHT
TZOFFSETFROM:-0500
TZOFFSETTO:-0400
TZNAME:EDT
DTSTART:20270314T070000
END:DAYLIGHT
BEGIN:STANDARD
TZOFFSETFROM:-0400
TZOFFSETTO:-0500
TZNAME:EST
DTSTART:20271107T060000
END:STANDARD
END:VTIMEZONE
BEGIN:VEVENT
DTSTART;TZID=America/New_York:20260418T190000
DTEND;TZID=America/New_York:20260418T210000
DTSTAMP:20260422T142446
CREATED:20260401T195150Z
LAST-MODIFIED:20260401T195150Z
UID:10004577-1776538800-1776546000@thesobercurator.com
SUMMARY:Bob Ross Style Painting Classes NYC
DESCRIPTION:Bob Ross Style Painting Classes NYC\nNYC’s Only Certified Bob Ross Instructor® teaches amazing Bob Ross Landscape Painting Classes in NYC for beginners and advanced artists. \nOver One Hundred and Twenty Five Star Reviews!\nThis is a premium painting experience where you will be step-by-step instructions to complete a landscape oil painting using the tools and techniques demonstrated on the hit TV series\, “The Joy of Painting” hosted by Bob Ross. This is a great alcohol free date night experience and perfect for any group of friends who want to experience the joy of painting in a relaxed and fun environment. You will be amazed by the results you can achieve with a few simple colors and a few simple steps. ​All supplies included. No experience required.\nSpaces are limited. We often sell out. Reserve your spot early. \nLocated at:\n134 W29th St. (2nd fl) NYC 10001
URL:https://thesobercurator.com/event/bob-ross-style-painting-classes-nyc/
LOCATION:Wes Day Paints
CATEGORIES:New York
ATTACH;FMTTYPE=image/png:https://thesobercurator.com/wp-content/uploads/2026/04/Bob-Ross-Style-Painting-Classes-NYC.png
END:VEVENT
END:VCALENDAR