BEGIN:VCALENDAR
VERSION:2.0
PRODID:-//The Sober Curator - ECPv6.15.20//NONSGML v1.0//EN
CALSCALE:GREGORIAN
METHOD:PUBLISH
X-WR-CALNAME:The Sober Curator
X-ORIGINAL-URL:https://thesobercurator.com
X-WR-CALDESC:Events for The Sober Curator
REFRESH-INTERVAL;VALUE=DURATION:PT1H
X-Robots-Tag:noindex
X-PUBLISHED-TTL:PT1H
BEGIN:VTIMEZONE
TZID:America/Los_Angeles
BEGIN:DAYLIGHT
TZOFFSETFROM:-0800
TZOFFSETTO:-0700
TZNAME:PDT
DTSTART:20250309T100000
END:DAYLIGHT
BEGIN:STANDARD
TZOFFSETFROM:-0700
TZOFFSETTO:-0800
TZNAME:PST
DTSTART:20251102T090000
END:STANDARD
BEGIN:DAYLIGHT
TZOFFSETFROM:-0800
TZOFFSETTO:-0700
TZNAME:PDT
DTSTART:20260308T100000
END:DAYLIGHT
BEGIN:STANDARD
TZOFFSETFROM:-0700
TZOFFSETTO:-0800
TZNAME:PST
DTSTART:20261101T090000
END:STANDARD
BEGIN:DAYLIGHT
TZOFFSETFROM:-0800
TZOFFSETTO:-0700
TZNAME:PDT
DTSTART:20270314T100000
END:DAYLIGHT
BEGIN:STANDARD
TZOFFSETFROM:-0700
TZOFFSETTO:-0800
TZNAME:PST
DTSTART:20271107T090000
END:STANDARD
END:VTIMEZONE
BEGIN:VEVENT
DTSTART;TZID=America/Los_Angeles:20260626T080000
DTEND;TZID=America/Los_Angeles:20260707T170000
DTSTAMP:20260424T144000
CREATED:20250321T165044Z
LAST-MODIFIED:20250404T163351Z
UID:10002988-1782460800-1783443600@thesobercurator.com
SUMMARY:Sober Travel: South Thailand
DESCRIPTION:There are a million reasons Thailand is called the Land of Smiles. The fragrant flowers\, breezy islands\, sandy beaches\, and endless seafood are a few. Waking up every day feeling refreshed and fully present is another. And trust us\, Thai iced tea is more than enough to catch a buzz sans booze.
URL:https://thesobercurator.com/event/sober-travel-south-thailand/
CATEGORIES:Sober Retreats
ATTACH;FMTTYPE=image/webp:https://thesobercurator.com/wp-content/uploads/2025/03/EF-Thailand.avif
END:VEVENT
BEGIN:VEVENT
DTSTART;VALUE=DATE:20260728
DTEND;VALUE=DATE:20260811
DTSTAMP:20260424T144000
CREATED:20250321T170521Z
LAST-MODIFIED:20250404T163053Z
UID:10002992-1785196800-1786406399@thesobercurator.com
SUMMARY:Sober Travel: North Thailand
DESCRIPTION:What makes North Thailand the “it” spot? It’s the perfect mix of rich culture\, vibrant city life\, and stunning landscapes—all of which you can experience sans alcohol. Come for the markets\, temples\, elephants\, and street food\, stay for the meaningful connections and mental clarity.
URL:https://thesobercurator.com/event/sober-travel-north-thailand/
CATEGORIES:Sober Retreats
ATTACH;FMTTYPE=image/webp:https://thesobercurator.com/wp-content/uploads/2025/03/EF-North-Thailand.avif
END:VEVENT
BEGIN:VEVENT
DTSTART;VALUE=DATE:20260829
DTEND;VALUE=DATE:20260912
DTSTAMP:20260424T144000
CREATED:20250321T170710Z
LAST-MODIFIED:20250404T162921Z
UID:10002993-1787961600-1789171199@thesobercurator.com
SUMMARY:Sober Travel: North Thailand
DESCRIPTION:What makes North Thailand the “it” spot? It’s the perfect mix of rich culture\, vibrant city life\, and stunning landscapes—all of which you can experience sans alcohol. Come for the markets\, temples\, elephants\, and street food\, stay for the meaningful connections and mental clarity.
URL:https://thesobercurator.com/event/sober-travel-north-thailand-2/
CATEGORIES:Sober Retreats
ATTACH;FMTTYPE=image/webp:https://thesobercurator.com/wp-content/uploads/2025/03/EF-North-Thailand2.avif
END:VEVENT
END:VCALENDAR