BEGIN:VCALENDAR
VERSION:2.0
PRODID:-//The Sober Curator - ECPv6.15.20//NONSGML v1.0//EN
CALSCALE:GREGORIAN
METHOD:PUBLISH
X-ORIGINAL-URL:https://thesobercurator.com
X-WR-CALDESC:Events for The Sober Curator
REFRESH-INTERVAL;VALUE=DURATION:PT1H
X-Robots-Tag:noindex
X-PUBLISHED-TTL:PT1H
BEGIN:VTIMEZONE
TZID:America/Chicago
BEGIN:DAYLIGHT
TZOFFSETFROM:-0600
TZOFFSETTO:-0500
TZNAME:CDT
DTSTART:20250309T080000
END:DAYLIGHT
BEGIN:STANDARD
TZOFFSETFROM:-0500
TZOFFSETTO:-0600
TZNAME:CST
DTSTART:20251102T070000
END:STANDARD
BEGIN:DAYLIGHT
TZOFFSETFROM:-0600
TZOFFSETTO:-0500
TZNAME:CDT
DTSTART:20260308T080000
END:DAYLIGHT
BEGIN:STANDARD
TZOFFSETFROM:-0500
TZOFFSETTO:-0600
TZNAME:CST
DTSTART:20261101T070000
END:STANDARD
BEGIN:DAYLIGHT
TZOFFSETFROM:-0600
TZOFFSETTO:-0500
TZNAME:CDT
DTSTART:20270314T080000
END:DAYLIGHT
BEGIN:STANDARD
TZOFFSETFROM:-0500
TZOFFSETTO:-0600
TZNAME:CST
DTSTART:20271107T070000
END:STANDARD
END:VTIMEZONE
BEGIN:VEVENT
DTSTART;TZID=America/Chicago:20260627T160000
DTEND;TZID=America/Chicago:20260627T220000
DTSTAMP:20260424T143512
CREATED:20260419T222939Z
LAST-MODIFIED:20260419T222939Z
UID:10004665-1782576000-1782597600@thesobercurator.com
SUMMARY:Sober & Proud: Zero Proof Pride Bar Crawl
DESCRIPTION:Sober & Proud: Zero Proof Pride Bar Crawl\nThis is all about redefining nightlife and creating intentional\, alcohol-free experiences for Pride\, because everyone deserves to celebrate fully and feel included\, no matter what’s in their glass. This is for the sober\, sober curious\, and cali-sober community. Crawlers can expect exciting exclusive drink specials\, including 1 free drink\, free after party\, the best lgbtq+ friendly bars\, best spots in town for N/A and 420 drinks\, and connect with other awesome people 🙂 \nFollow on IG @zeroproofcrawls \nJoin the movement redefining nightlife in Austin! \nSober & Proud: Zero Proof Pride Crawl takes over Austin with a high-vibe\, non-alcoholic Pride bar crawl featuring handcrafted mocktails\, 420-friendly drinks and pop-ups\, DJs\, and a community of rebels celebrating love — fully present\, all vibes. \nThis Pride event brings together Austin’s LGBTQ+\, sober\, sober-curious\, and 420 crowd for a night of fun — no alcohol\, no hangover\, all buzz. \n📅 June 27\, 2026 🕒 4–10 PM \n📍 Check-in from 4–7 PM \n🍹 What’s Included: \n✨ 2 Free N/A drinks at select participating bars \n✨ Free entry into 5+ of the best LGBTQ+ & mocktail-friendly bars in Austin \n✨ Exclusive zero-proof & 420-friendly drink specials \n✨ DJs + vibey pop-ups \n✨ NA spirits\, 420\, botanical & zero-proof tastings \n✨ Community of sober + sober-curious rebels \n✨ Free after party \n✨ Free Pride swag bag while supplies last 🏳️‍🌈 \n💥 Why Zero Proof Pride? Because rebellion tastes better when you’re fully present. Because connection > intoxication. Because Pride doesn’t have to come with a hangover. Because Austin’s LGBTQ+ community deserves a new kind of nightlife. Because this isn’t a trend — it’s a movement. It’s a revolution. It’s the future of going out. \nLove is Love. 🏳️‍🌈 \n❓ Q + A \nWhere do I check in? TBD\, anytime between 4–7 PM. Grab your wristband\, map\, and your first zero-proof special. \nDo I have to be sober to attend? Nope. Everyone is welcome — sober\, sober-curious\, wellness babes\, party people who want fun without the hangover\, and every beautiful human in between. \nWill the bars offer alcohol? Yes. This is not a restricted event — but our specials\, menus\, and experiences are zero proof + 420 focused. \nIs this LGBTQ+-only? This is a Pride event at LGBTQ+-affirming venues. All allies are warmly welcomed — just come with love and respect. Love is love. \nWhat is the age requirement? This event is 21+ only. \nCan I come alone? Absolutely. This community is warm\, welcoming\, and full of high-vibe humans. You’ll make friends instantly. \nAre all the bars walkable? Yes — we curated Austin so the route is easy and fun to navigate. \nWhere’s the after party? Details dropping soon — follow @ZeroProofCrawls \nfor the announcement! \nDress code? Sparkly. Proud. Revolutionary. Rainbow everything. Whatever makes you feel alive. 🌈 \nRefund policy? Tickets are non-refundable but transferable. \n 
URL:https://thesobercurator.com/event/sober-proud-zero-proof-pride-bar-crawl/
LOCATION:TX
CATEGORIES:Austin,Texas
ATTACH;FMTTYPE=image/png:https://thesobercurator.com/wp-content/uploads/2026/04/Zero-Proof-Crawls.avif
ORGANIZER;CN="Zero Proof Crawls":MAILTO:Hello@muzemktg.com
END:VEVENT
BEGIN:VEVENT
DTSTART;TZID=America/Chicago:20260627T160000
DTEND;TZID=America/Chicago:20260627T220000
DTSTAMP:20260424T143512
CREATED:20260420T040342Z
LAST-MODIFIED:20260420T040342Z
UID:10004672-1782576000-1782597600@thesobercurator.com
SUMMARY:Sober & Proud: Dallas Zero Proof Pride Crawl
DESCRIPTION:Sober & Proud: Dallas Zero Proof Pride Crawl\n\n\n\n\nA whole new way to Pride — no hangover required. \n\n\n\n\nJoin the movement redefining nightlife in Dallas! \nSober & Proud: Zero Proof Pride Crawl takes over Cedar Springs in Dallas with a high-vibe\, non-alcoholic Pride bar crawl featuring handcrafted mocktails\, cali-sober drinks and pop-ups\, DJs\, and a community of rebels celebrating love — fully present\, all vibes. \nThis Pride event brings together Dallas’ LGBTQ+\, sober\, sober-curious\, and cali-sober crowd for a night of fun — no alcohol\, no hangover\, all buzz. \n📅 June 27\, 2026 🕒 4–10 PM \n📍 Check-in from 4–7 PM at Woody’s \n🍹 What’s Included: \n✨ 2 Free N/A drinks at select participating bars \n✨ Free entry into 5+ of the best LGBTQ+ & mocktail-friendly bars in Dallas \n✨ Exclusive zero-proof & cali-sober friendly drink specials \n✨ DJs + vibey pop-ups \n✨ NA spirits\, cali-sober\, botanical & zero-proof tastings \n✨ Community of sober + sober-curious rebels \n✨ Free after party \n✨ Free Pride swag bag while supplies last 🏳️‍🌈 \n💥 Why Zero Proof Pride? Because rebellion tastes better when you’re fully present. Because connection > intoxication. Because Pride doesn’t have to come with a hangover. Because Dallas’ LGBTQ+ community deserves a new kind of nightlife. Because this isn’t a trend — it’s a movement. It’s a revolution. It’s the future of going out. \nLove is Love. 🏳️‍🌈 \n❓ Q + A \nWhere do I check in? At Woody’s anytime between 4–7 PM. Grab your wristband\, map\, and your first zero-proof special. \nDo I have to be sober to attend? Nope. Everyone is welcome — sober\, sober-curious\, wellness babes\, party people who want fun without the hangover\, and every beautiful human in between. \nWill the bars offer alcohol? Yes. This is not a restricted event — but our specials\, menus\, and experiences are zero proof + cali-sober focused. \nIs this LGBTQ+-only? This is a Pride event at LGBTQ+ affirming venues. All allies are warmly welcomed — just come with love and respect. Love is love. \nWhat is the age requirement? This event is 21+ only. \nCan I come alone? Absolutely. This community is warm\, welcoming\, and full of high-vibe humans. You’ll make friends instantly. \nAre all the bars walkable? Yes — we curated the bars so the route is easy and fun to navigate. \nWhere’s the after party? Round Up Saloon! — follow @ZeroProofCrawls \nfor the announcement! \nDress code? Sparkly. Proud. Revolutionary. Rainbow everything. Whatever makes you feel alive. 🌈 \nRefund policy? Tickets are non-refundable but transferable. \n📩 Contact For questions\, partnerships\, or media inquiries: hello@muzemktg.com \n👇 Join the Movement IG @ZeroProofCrawls \n#SoberAndProud #ZeroProofPride #LoveIsLove #PrideDallas #ZeroProofCrawl
URL:https://thesobercurator.com/event/sober-proud-dallas-zero-proof-pride-crawl/
LOCATION:Dallas Woody’s\, 4011 Cedar Springs Road\, Dallas\, TX\, 75219\, United States
CATEGORIES:Dallas,Texas
ATTACH;FMTTYPE=image/png:https://thesobercurator.com/wp-content/uploads/2026/04/Zero-Proof-Crawls.avif
ORGANIZER;CN="Zero Proof Crawls":MAILTO:Hello@muzemktg.com
END:VEVENT
END:VCALENDAR