BEGIN:VCALENDAR
VERSION:2.0
PRODID:-//The Sober Curator - ECPv6.15.20//NONSGML v1.0//EN
CALSCALE:GREGORIAN
METHOD:PUBLISH
X-ORIGINAL-URL:https://thesobercurator.com
X-WR-CALDESC:Events for The Sober Curator
REFRESH-INTERVAL;VALUE=DURATION:PT1H
X-Robots-Tag:noindex
X-PUBLISHED-TTL:PT1H
BEGIN:VTIMEZONE
TZID:America/New_York
BEGIN:DAYLIGHT
TZOFFSETFROM:-0500
TZOFFSETTO:-0400
TZNAME:EDT
DTSTART:20250309T070000
END:DAYLIGHT
BEGIN:STANDARD
TZOFFSETFROM:-0400
TZOFFSETTO:-0500
TZNAME:EST
DTSTART:20251102T060000
END:STANDARD
BEGIN:DAYLIGHT
TZOFFSETFROM:-0500
TZOFFSETTO:-0400
TZNAME:EDT
DTSTART:20260308T070000
END:DAYLIGHT
BEGIN:STANDARD
TZOFFSETFROM:-0400
TZOFFSETTO:-0500
TZNAME:EST
DTSTART:20261101T060000
END:STANDARD
BEGIN:DAYLIGHT
TZOFFSETFROM:-0500
TZOFFSETTO:-0400
TZNAME:EDT
DTSTART:20270314T070000
END:DAYLIGHT
BEGIN:STANDARD
TZOFFSETFROM:-0400
TZOFFSETTO:-0500
TZNAME:EST
DTSTART:20271107T060000
END:STANDARD
END:VTIMEZONE
BEGIN:VTIMEZONE
TZID:America/Chicago
BEGIN:DAYLIGHT
TZOFFSETFROM:-0600
TZOFFSETTO:-0500
TZNAME:CDT
DTSTART:20250309T080000
END:DAYLIGHT
BEGIN:STANDARD
TZOFFSETFROM:-0500
TZOFFSETTO:-0600
TZNAME:CST
DTSTART:20251102T070000
END:STANDARD
BEGIN:DAYLIGHT
TZOFFSETFROM:-0600
TZOFFSETTO:-0500
TZNAME:CDT
DTSTART:20260308T080000
END:DAYLIGHT
BEGIN:STANDARD
TZOFFSETFROM:-0500
TZOFFSETTO:-0600
TZNAME:CST
DTSTART:20261101T070000
END:STANDARD
BEGIN:DAYLIGHT
TZOFFSETFROM:-0600
TZOFFSETTO:-0500
TZNAME:CDT
DTSTART:20270314T080000
END:DAYLIGHT
BEGIN:STANDARD
TZOFFSETFROM:-0500
TZOFFSETTO:-0600
TZNAME:CST
DTSTART:20271107T070000
END:STANDARD
END:VTIMEZONE
BEGIN:VEVENT
DTSTART;TZID=America/New_York:20260614T190000
DTEND;TZID=America/New_York:20260614T220000
DTSTAMP:20260424T131613
CREATED:20260420T035847Z
LAST-MODIFIED:20260420T035847Z
UID:10004671-1781463600-1781474400@thesobercurator.com
SUMMARY:Sober And Socializing: PRIDE PROM ~ LGBTQ Dance Party & Pride Celebration
DESCRIPTION:Sober And Socializing: PRIDE PROM ~ LGBTQ Dance Party & Pride Celebration\n\n\n\n\nJoin us for an old school dance to remember! An excuse to dress fancy…do the ‘Cupid Shuffle’ & the ‘Electric Slide’ & show your Pride! \n\n\n\n\nS.A.S admission for Queer Prom\nWhen checking with your host\, let them know you have a SAS ticket so they can give you some non-alcholic options availible at the venue. \n**There with be a non-alcholic drink menu at the main bar with White Balloons. \nIn general Queer Social curates all our events to have social experiences that are centered around activities and conversation rather than focused on seating at the bar and drinking. \nSo whether you are not drinking alcohol tonight; as a break from the weekend\, a health decision\, or part of a program\, we want to extend our support with this Sober And Socializing event. You will not get any peer-pressure or sass from us for not drinking. \nFor many of our LGBTQ community members they did not get to attend their Prom or other school dances. Late Bloomers or Wild Roses join us for this year’s \nPRIDE PROM ~ LGBTQ Dance & Pride Celebration! \nFeaturing: \nSpecial Guests\, Drag Performances & Pop-up Entertainment \nDrink Specials & Mocktail Menu (Sober Friendly Options) \nDelicious dinner & small food for purchase \n+ Crowning of Prom 2 Kings\, 2 Queens & 2 Royal Persons \n(Cast your Ballot & yes you can nominate yourself) \nEvent Note: \nDress up as fancy as you like. (People have worn Tuxedos & Gowns to Jean & Crop Tops) \nSafe Space event open to Our Community & Supporters. \nSmoke/Drug & Drama Free Zone. \nSupporter of Trans/Nonbinary/ QPOC & Sober community members. \nThe venue has gender neutral bathrooms & is Accessible. \nQueer Social’s Member supported Access Program will be providing Free Entry for those who needed it 7pm-8pm. \n21+ w/ valid ID \nSponsored By: \nSlate NY\, Supporting the Community for 25+ years \n+Check out our Special Guest Companies & Organizations in our Community Partners Lounge! \nSponsors & Donations welcome & greatly appreciated! \nIf you would like to Sponsor this event or volunteer to help set up\, please email us: \nQueersocial.us@gmail.com
URL:https://thesobercurator.com/event/sober-and-socializing-pride-prom-lgbtq-dance-party-pride-celebration/
LOCATION:Slate NY\, 54 West 21st Street\, New York\, NY\, 10010\, United States
CATEGORIES:New York
ATTACH;FMTTYPE=image/webp:https://thesobercurator.com/wp-content/uploads/2026/04/Sober-Pride-Prom.avif
END:VEVENT
BEGIN:VEVENT
DTSTART;TZID=America/Chicago:20260627T160000
DTEND;TZID=America/Chicago:20260627T220000
DTSTAMP:20260424T131613
CREATED:20260420T062641Z
LAST-MODIFIED:20260420T062641Z
UID:10004686-1782576000-1782597600@thesobercurator.com
SUMMARY:Sober & Proud: Houston Zero Proof Pride Crawl🏳️‍🌈
DESCRIPTION:Sober & Proud: Houston Zero Proof Pride Crawl🏳️‍🌈\nJoin the movement redefining nightlife in Houston! \nSober & Proud: Zero Proof Pride Crawl takes over EaDo with a high-vibe\, non-alcoholic Pride bar crawl featuring handcrafted mocktails\, 420-friendly drinks and pop-ups\, DJs\, and a community of rebels celebrating love — fully present\, all vibes. \nThis Pride event brings together Houston’s LGBTQ+\, sober\, sober-curious\, and 420 crowd for a night of fun — no alcohol\, no hangover\, all buzz. \n📅 June 27\, 2026 🕒 4–10 PM \n📍 Check-in from 4–7 PM at Barcode in Montrose \n🍹 What’s Included: \n✨ 2 Free N/A drinks at select participating bars \n✨ Free entry into 5+ of the best LGBTQ+ & mocktail-friendly bars in EaDo \n✨ Exclusive zero-proof & 420-friendly drink specials \n✨ DJs + vibey pop-ups \n✨ NA spirits\, 420\, botanical & zero-proof tastings \n✨ Community of sober + sober-curious rebels \n✨ Free after party \n✨ Free Pride swag bag while supplies last 🏳️‍🌈 \n💥 Why Zero Proof Pride? Because rebellion tastes better when you’re fully present. Because connection > intoxication. Because Pride doesn’t have to come with a hangover. Because Houston’s LGBTQ+ community deserves a new kind of nightlife. Because this isn’t a trend — it’s a movement. It’s a revolution. It’s the future of going out. \nLove is Love. 🏳️‍🌈 \n❓ Q + A \nWhere do I check in? At Barcode anytime between 4–7 PM. Grab your wristband\, map\, and your first zero-proof special. \nDo I have to be sober to attend? Nope. Everyone is welcome — sober\, sober-curious\, wellness babes\, party people who want fun without the hangover\, and every beautiful human in between. \nWill the bars offer alcohol? Yes. This is not a restricted event — but our specials\, menus\, and experiences are zero proof + 420 focused. \nIs this LGBTQ+-only? This is a Pride event at LGBTQ+-affirming venues. All allies are warmly welcomed — just come with love and respect. Love is love. \nWhat is the age requirement? This event is 21+ only. \nCan I come alone? Absolutely. This community is warm\, welcoming\, and full of high-vibe humans. You’ll make friends instantly. \nAre all the bars walkable? Yes — we curated EaDo so the route is easy and fun to navigate. \nWhere’s the after party? Details dropping soon — follow @ZeroProofCrawls \nfor the announcement! \nDress code? Sparkly. Proud. Revolutionary. Rainbow everything. Whatever makes you feel alive. 🌈 \nRefund policy? Tickets are non-refundable but transferable.
URL:https://thesobercurator.com/event/sober-proud-houston-zero-proof-pride-crawl%f0%9f%8f%b3%ef%b8%8f%f0%9f%8c%88/
LOCATION:817 Fairview St\, Houston\, TX 77006\, USA\, 817 Fairview St\, Houston\, TX\, 77006\, United States
CATEGORIES:Houston,Texas
ATTACH;FMTTYPE=image/png:https://thesobercurator.com/wp-content/uploads/2026/04/Zero-Proof-Crawls.avif
ORGANIZER;CN="Zero Proof Crawls":MAILTO:Hello@muzemktg.com
END:VEVENT
END:VCALENDAR