BEGIN:VCALENDAR
VERSION:2.0
PRODID:-//The Sober Curator - ECPv6.15.20//NONSGML v1.0//EN
CALSCALE:GREGORIAN
METHOD:PUBLISH
X-ORIGINAL-URL:https://thesobercurator.com
X-WR-CALDESC:Events for The Sober Curator
REFRESH-INTERVAL;VALUE=DURATION:PT1H
X-Robots-Tag:noindex
X-PUBLISHED-TTL:PT1H
BEGIN:VTIMEZONE
TZID:America/Los_Angeles
BEGIN:DAYLIGHT
TZOFFSETFROM:-0800
TZOFFSETTO:-0700
TZNAME:PDT
DTSTART:20250309T100000
END:DAYLIGHT
BEGIN:STANDARD
TZOFFSETFROM:-0700
TZOFFSETTO:-0800
TZNAME:PST
DTSTART:20251102T090000
END:STANDARD
BEGIN:DAYLIGHT
TZOFFSETFROM:-0800
TZOFFSETTO:-0700
TZNAME:PDT
DTSTART:20260308T100000
END:DAYLIGHT
BEGIN:STANDARD
TZOFFSETFROM:-0700
TZOFFSETTO:-0800
TZNAME:PST
DTSTART:20261101T090000
END:STANDARD
BEGIN:DAYLIGHT
TZOFFSETFROM:-0800
TZOFFSETTO:-0700
TZNAME:PDT
DTSTART:20270314T100000
END:DAYLIGHT
BEGIN:STANDARD
TZOFFSETFROM:-0700
TZOFFSETTO:-0800
TZNAME:PST
DTSTART:20271107T090000
END:STANDARD
END:VTIMEZONE
BEGIN:VEVENT
DTSTART;VALUE=DATE:20260605
DTEND;VALUE=DATE:20260616
DTSTAMP:20260423T031606
CREATED:20251022T182237Z
LAST-MODIFIED:20251022T182237Z
UID:10002986-1780617600-1781567999@thesobercurator.com
SUMMARY:Sober Travel: Bali
DESCRIPTION:Sober Travel: Bali\nThis is no ordinary getaway—it’s a zero-proof trip to paradise. Let your worries drift away as you reconnect with nature\, dive into in the Balinese way of life\, and put your wellness front and center. Ten days in the Island of the Gods will truly reboot your mind\, body\, and soul.
URL:https://thesobercurator.com/event/sober-travel-bali-2/
CATEGORIES:Sober Retreats
ATTACH;FMTTYPE=image/webp:https://thesobercurator.com/wp-content/uploads/2025/03/EF-Bali.avif
END:VEVENT
BEGIN:VEVENT
DTSTART;VALUE=DATE:20260703
DTEND;VALUE=DATE:20260712
DTSTAMP:20260423T031606
CREATED:20251223T180341Z
LAST-MODIFIED:20260124T203220Z
UID:10003843-1783036800-1783814399@thesobercurator.com
SUMMARY:Bali and Komodo Islands with Capsule Adventures
DESCRIPTION:Bali and Komodo Islands with Capsule Adventures \nExperience the best of Indonesia on this 9 day island-hopping adventure.
URL:https://thesobercurator.com/event/bali-and-komodo-islands-with-capsule-adventures/
CATEGORIES:Sober Retreats
ATTACH;FMTTYPE=image/jpeg:https://thesobercurator.com/wp-content/uploads/2025/12/Capsule_Komodo.avif
END:VEVENT
BEGIN:VEVENT
DTSTART;VALUE=DATE:20260807
DTEND;VALUE=DATE:20260818
DTSTAMP:20260423T031606
CREATED:20250321T164406Z
LAST-MODIFIED:20250404T163011Z
UID:10002987-1786060800-1787011199@thesobercurator.com
SUMMARY:Sober Travel: Bali
DESCRIPTION:This is no ordinary getaway—it’s a zero-proof trip to paradise. Let your worries drift away as you reconnect with nature\, dive into in the Balinese way of life\, and put your wellness front and center. Ten days in the Island of the Gods will truly reboot your mind\, body\, and soul.
URL:https://thesobercurator.com/event/sober-travel-bali/
CATEGORIES:Sober Retreats
ATTACH;FMTTYPE=image/webp:https://thesobercurator.com/wp-content/uploads/2025/03/EF-Bali2.avif
END:VEVENT
END:VCALENDAR