BEGIN:VCALENDAR
VERSION:2.0
PRODID:-//The Sober Curator - ECPv6.15.20//NONSGML v1.0//EN
CALSCALE:GREGORIAN
METHOD:PUBLISH
X-WR-CALNAME:The Sober Curator
X-ORIGINAL-URL:https://thesobercurator.com
X-WR-CALDESC:Events for The Sober Curator
REFRESH-INTERVAL;VALUE=DURATION:PT1H
X-Robots-Tag:noindex
X-PUBLISHED-TTL:PT1H
BEGIN:VTIMEZONE
TZID:America/Los_Angeles
BEGIN:DAYLIGHT
TZOFFSETFROM:-0800
TZOFFSETTO:-0700
TZNAME:PDT
DTSTART:20250309T100000
END:DAYLIGHT
BEGIN:STANDARD
TZOFFSETFROM:-0700
TZOFFSETTO:-0800
TZNAME:PST
DTSTART:20251102T090000
END:STANDARD
BEGIN:DAYLIGHT
TZOFFSETFROM:-0800
TZOFFSETTO:-0700
TZNAME:PDT
DTSTART:20260308T100000
END:DAYLIGHT
BEGIN:STANDARD
TZOFFSETFROM:-0700
TZOFFSETTO:-0800
TZNAME:PST
DTSTART:20261101T090000
END:STANDARD
BEGIN:DAYLIGHT
TZOFFSETFROM:-0800
TZOFFSETTO:-0700
TZNAME:PDT
DTSTART:20270314T100000
END:DAYLIGHT
BEGIN:STANDARD
TZOFFSETFROM:-0700
TZOFFSETTO:-0800
TZNAME:PST
DTSTART:20271107T090000
END:STANDARD
END:VTIMEZONE
BEGIN:VEVENT
DTSTART;VALUE=DATE:20260520
DTEND;VALUE=DATE:20260531
DTSTAMP:20260424T134405
CREATED:20250321T162750Z
LAST-MODIFIED:20250404T163522Z
UID:10002982-1779235200-1780185599@thesobercurator.com
SUMMARY:Sober Travel: The Greek Islands
DESCRIPTION:Greece has been doing wellness right since ancient times. Soak up the sun on white-sand beaches\, fuel up on Mediterranean eats\, and sip freddo cappuccinos with a view. Oh yeah\, that’s paradise for the mind\, body\, and soul. From Santorini’s blue domes to Paros hidden coves\, experience the islands—booze-free and stress-free. Opa!
URL:https://thesobercurator.com/event/sober-travel-the-greek-islands/
CATEGORIES:Sober Retreats
ATTACH;FMTTYPE=image/webp:https://thesobercurator.com/wp-content/uploads/2025/03/EFGreece.avif
END:VEVENT
BEGIN:VEVENT
DTSTART;VALUE=DATE:20260606
DTEND;VALUE=DATE:20260617
DTSTAMP:20260424T134405
CREATED:20250321T163005Z
LAST-MODIFIED:20250404T163436Z
UID:10002983-1780704000-1781654399@thesobercurator.com
SUMMARY:Sober Travel: The Greek Islands
DESCRIPTION:Greece has been doing wellness right since ancient times. Soak up the sun on white-sand beaches\, fuel up on Mediterranean eats\, and sip freddo cappuccinos with a view. Oh yeah\, that’s paradise for the mind\, body\, and soul. From Santorini’s blue domes to Paros hidden coves\, experience the islands—booze-free and stress-free. Opa!
URL:https://thesobercurator.com/event/sober-travel-the-greek-islands-2/
CATEGORIES:Sober Retreats
ATTACH;FMTTYPE=image/webp:https://thesobercurator.com/wp-content/uploads/2025/03/EFGreece2.avif
END:VEVENT
END:VCALENDAR