BEGIN:VCALENDAR
VERSION:2.0
PRODID:-//The Sober Curator - ECPv6.15.20//NONSGML v1.0//EN
CALSCALE:GREGORIAN
METHOD:PUBLISH
X-ORIGINAL-URL:https://thesobercurator.com
X-WR-CALDESC:Events for The Sober Curator
REFRESH-INTERVAL;VALUE=DURATION:PT1H
X-Robots-Tag:noindex
X-PUBLISHED-TTL:PT1H
BEGIN:VTIMEZONE
TZID:America/Los_Angeles
BEGIN:DAYLIGHT
TZOFFSETFROM:-0800
TZOFFSETTO:-0700
TZNAME:PDT
DTSTART:20250309T100000
END:DAYLIGHT
BEGIN:STANDARD
TZOFFSETFROM:-0700
TZOFFSETTO:-0800
TZNAME:PST
DTSTART:20251102T090000
END:STANDARD
BEGIN:DAYLIGHT
TZOFFSETFROM:-0800
TZOFFSETTO:-0700
TZNAME:PDT
DTSTART:20260308T100000
END:DAYLIGHT
BEGIN:STANDARD
TZOFFSETFROM:-0700
TZOFFSETTO:-0800
TZNAME:PST
DTSTART:20261101T090000
END:STANDARD
BEGIN:DAYLIGHT
TZOFFSETFROM:-0800
TZOFFSETTO:-0700
TZNAME:PDT
DTSTART:20270314T100000
END:DAYLIGHT
BEGIN:STANDARD
TZOFFSETFROM:-0700
TZOFFSETTO:-0800
TZNAME:PST
DTSTART:20271107T090000
END:STANDARD
END:VTIMEZONE
BEGIN:VEVENT
DTSTART;TZID=America/Los_Angeles:20260509T170000
DTEND;TZID=America/Los_Angeles:20260509T190000
DTSTAMP:20260423T012436
CREATED:20260420T044256Z
LAST-MODIFIED:20260420T044256Z
UID:10004681-1778346000-1778353200@thesobercurator.com
SUMMARY:Game Night | Sober AF Bottle Shop Tacoma
DESCRIPTION:Game Night | Sober AF Bottle Shop Tacoma\nBYOGB Night: Bring Your Own Game\, Bring Your People 🎲✨ \nIt’s time to log off and link up IRL. Join us for a laid-back night of board games\, NA sips\, and good company. \nBring your favorite game to share or grab one from our collection – we’ve got the tables\, the vibes\, and the drinks covered. \nWhether you’re competitive\, chaotic\, or just here for the laughs… you’ll fit right in. (Fair warning: we take fun very seriously 😏) \n✨ Details: \n\n\nTime: 5–7 PM
URL:https://thesobercurator.com/event/game-night-sober-af-bottle-shop-tacoma/
LOCATION:SOBER AF Bottle Shop Tacoma\, 5222 S Tacoma Way\, Tacoma\, WA\, 98409\, United States
CATEGORIES:NA Tasting,Seattle,Tacoma,Washington
ATTACH;FMTTYPE=image/avif:https://thesobercurator.com/wp-content/uploads/2026/04/Sober-AF-Game-Night.avif
ORGANIZER;CN="SOBER AF Zero Proof Bottle Shop Tacoma":MAILTO:info@soberAF253.com
END:VEVENT
END:VCALENDAR