BEGIN:VCALENDAR
VERSION:2.0
PRODID:-//The Sober Curator - ECPv6.15.20//NONSGML v1.0//EN
CALSCALE:GREGORIAN
METHOD:PUBLISH
X-WR-CALNAME:The Sober Curator
X-ORIGINAL-URL:https://thesobercurator.com
X-WR-CALDESC:Events for The Sober Curator
REFRESH-INTERVAL;VALUE=DURATION:PT1H
X-Robots-Tag:noindex
X-PUBLISHED-TTL:PT1H
BEGIN:VTIMEZONE
TZID:America/New_York
BEGIN:DAYLIGHT
TZOFFSETFROM:-0500
TZOFFSETTO:-0400
TZNAME:EDT
DTSTART:20250309T070000
END:DAYLIGHT
BEGIN:STANDARD
TZOFFSETFROM:-0400
TZOFFSETTO:-0500
TZNAME:EST
DTSTART:20251102T060000
END:STANDARD
BEGIN:DAYLIGHT
TZOFFSETFROM:-0500
TZOFFSETTO:-0400
TZNAME:EDT
DTSTART:20260308T070000
END:DAYLIGHT
BEGIN:STANDARD
TZOFFSETFROM:-0400
TZOFFSETTO:-0500
TZNAME:EST
DTSTART:20261101T060000
END:STANDARD
BEGIN:DAYLIGHT
TZOFFSETFROM:-0500
TZOFFSETTO:-0400
TZNAME:EDT
DTSTART:20270314T070000
END:DAYLIGHT
BEGIN:STANDARD
TZOFFSETFROM:-0400
TZOFFSETTO:-0500
TZNAME:EST
DTSTART:20271107T060000
END:STANDARD
END:VTIMEZONE
BEGIN:VEVENT
DTSTART;TZID=America/New_York:20260506T190000
DTEND;TZID=America/New_York:20260506T210000
DTSTAMP:20260425T202604
CREATED:20260420T035556Z
LAST-MODIFIED:20260420T035556Z
UID:10004669-1778094000-1778101200@thesobercurator.com
SUMMARY:Sober Stand Up Comedy at Scorpion Hearts Club
DESCRIPTION:Sober Stand Up Comedy at Scorpion Hearts Club\nLocal Spins author of #LocalGrins and comedian Virginia Anzengruber is hosting the Winter/Spring editions of #ScorpionFartsClubComedyShow!
URL:https://thesobercurator.com/event/sober-stand-up-comedy-at-scorpion-hearts-club/2026-05-06/
LOCATION:Scorpion Hearts Club\, 1035 Wealthy Street Southeast\, Grand Rapids\, MI\, 49506\, United States
CATEGORIES:detroit,Michigan
ATTACH;FMTTYPE=image/webp:https://thesobercurator.com/wp-content/uploads/2026/04/Sober-stand-up-comedy.avif
END:VEVENT
BEGIN:VEVENT
DTSTART;TZID=America/New_York:20260603T190000
DTEND;TZID=America/New_York:20260603T210000
DTSTAMP:20260425T202604
CREATED:20260420T035556Z
LAST-MODIFIED:20260420T035556Z
UID:10004670-1780513200-1780520400@thesobercurator.com
SUMMARY:Sober Stand Up Comedy at Scorpion Hearts Club
DESCRIPTION:Sober Stand Up Comedy at Scorpion Hearts Club\nLocal Spins author of #LocalGrins and comedian Virginia Anzengruber is hosting the Winter/Spring editions of #ScorpionFartsClubComedyShow!
URL:https://thesobercurator.com/event/sober-stand-up-comedy-at-scorpion-hearts-club/2026-06-03/
LOCATION:Scorpion Hearts Club\, 1035 Wealthy Street Southeast\, Grand Rapids\, MI\, 49506\, United States
CATEGORIES:detroit,Michigan
ATTACH;FMTTYPE=image/webp:https://thesobercurator.com/wp-content/uploads/2026/04/Sober-stand-up-comedy.avif
END:VEVENT
END:VCALENDAR