BEGIN:VCALENDAR
VERSION:2.0
PRODID:-//The Sober Curator - ECPv6.15.20//NONSGML v1.0//EN
CALSCALE:GREGORIAN
METHOD:PUBLISH
X-WR-CALNAME:The Sober Curator
X-ORIGINAL-URL:https://thesobercurator.com
X-WR-CALDESC:Events for The Sober Curator
REFRESH-INTERVAL;VALUE=DURATION:PT1H
X-Robots-Tag:noindex
X-PUBLISHED-TTL:PT1H
BEGIN:VTIMEZONE
TZID:America/Los_Angeles
BEGIN:DAYLIGHT
TZOFFSETFROM:-0800
TZOFFSETTO:-0700
TZNAME:PDT
DTSTART:20250309T100000
END:DAYLIGHT
BEGIN:STANDARD
TZOFFSETFROM:-0700
TZOFFSETTO:-0800
TZNAME:PST
DTSTART:20251102T090000
END:STANDARD
BEGIN:DAYLIGHT
TZOFFSETFROM:-0800
TZOFFSETTO:-0700
TZNAME:PDT
DTSTART:20260308T100000
END:DAYLIGHT
BEGIN:STANDARD
TZOFFSETFROM:-0700
TZOFFSETTO:-0800
TZNAME:PST
DTSTART:20261101T090000
END:STANDARD
BEGIN:DAYLIGHT
TZOFFSETFROM:-0800
TZOFFSETTO:-0700
TZNAME:PDT
DTSTART:20270314T100000
END:DAYLIGHT
BEGIN:STANDARD
TZOFFSETFROM:-0700
TZOFFSETTO:-0800
TZNAME:PST
DTSTART:20271107T090000
END:STANDARD
END:VTIMEZONE
BEGIN:VEVENT
DTSTART;TZID=America/Los_Angeles:20260425T190000
DTEND;TZID=America/Los_Angeles:20260425T210000
DTSTAMP:20260422T170728
CREATED:20260422T211052Z
LAST-MODIFIED:20260422T211052Z
UID:10004689-1777143600-1777150800@thesobercurator.com
SUMMARY:Sober & Standing (Up!)
DESCRIPTION:Sober & Standing (Up!)\nSober & Standing (Up!) brings laughter\, resilience\, and community together in support of recovery while helping break the stigma around substance use. It also raises funds to expand access to critical treatment for underserved and uninsured individuals and families\, many of whom might otherwise be left behind. \nTaking place at this historic El Rey Theatre on Saturday\, April 25\, the evening features Alonzo Bodden\, Frankie Quinones\, Ally Weinhold\, and the cast of the Sober Show – Improv\, all comedians in recovery. Their performances are shaped by hard-earned lived experience\, turning struggle into humor that is fearless\, personal\, and full of heart. Nearly 300 people are expected to attend\, many of them either directly connected to recovery or affected by addiction through someone they know or love. \nThe third annual Sober & Standing (Up!) is presented by Phoenix Houses of California\, one of the state’s leading substance use disorder treatment organizations serving more than 37\,000 youth\, adults\, and families across Southern California each year. \n7:30 p.m. [doors open at 7:00 p.m.]
URL:https://thesobercurator.com/event/sober-standing-up/
LOCATION:El Rey Theatre\, Los Angeles\, CA\, United States
CATEGORIES:California,Los Angeles
ATTACH;FMTTYPE=image/png:https://thesobercurator.com/wp-content/uploads/2026/04/Sober-Standing-Up-Sober-Comedy-Event.avif
END:VEVENT
BEGIN:VEVENT
DTSTART;TZID=America/Los_Angeles:20260530T190000
DTEND;TZID=America/Los_Angeles:20260530T210000
DTSTAMP:20260422T170728
CREATED:20260420T035001Z
LAST-MODIFIED:20260420T035042Z
UID:10004668-1780167600-1780174800@thesobercurator.com
SUMMARY:Sober Flow Yoga: Healing is The New High
DESCRIPTION:Sober Flow Yoga: Healing is The New High\n\n\nA grounding\, community-centered yoga experience in a safe\, elevated space. Move your body. Clear your mind. Connect without compromise. \n\n\n\n\nHealing is the new high. \nJoin us for Sober Flow Yoga\, a welcoming\, supportive class for anyone who wants to move\, breathe\, and connect in a substance-free environment. Whether you’re sober-curious\, fully sober\, or simply seeking a clearer kind of vibe\, this is your space. \nExpect an intentional flow that balances strength and softness — grounding movement\, conscious breathwork\, and space to reset. No pressure. No judgment. Just community\, clarity\, and presence. \nWe’ve created an atmosphere that feels safe\, inclusive\, and elevated — because wellness should feel good and accessible. \nYour Ticket Includes:\n• A guided yoga class in a supportive environment\n• Mats and water available (just bring yourself)\n• 20% off purchases at The Higher Path\, The Other Path\, and The Green Room \nMoonrise Manifestations will be present for paid tarot services! Be sure to come early to enjoy all there is to offer! \nDetails:\n• 21+ to enter\n• All levels welcome\n• Limited spots available \nCome as you are. Leave lighter.
URL:https://thesobercurator.com/event/sober-flow-yoga-healing-is-the-new-high/
LOCATION:14082 Ventura Blvd\, 14082 Ventura Blvd\, Los Angeles\, CA\, United States
CATEGORIES:California,Los Angeles
ATTACH;FMTTYPE=image/webp:https://thesobercurator.com/wp-content/uploads/2026/04/The-Sober-Flow.avif
END:VEVENT
BEGIN:VEVENT
DTSTART;VALUE=DATE:20260716
DTEND;VALUE=DATE:20260720
DTSTAMP:20260422T170728
CREATED:20260420T050830Z
LAST-MODIFIED:20260420T050830Z
UID:10004685-1784160000-1784505599@thesobercurator.com
SUMMARY:Serenity in the Sierras
DESCRIPTION:Serenity in the Sierras\n\n\n\n\nSober weekend of camping\, meetings\, fun and fellowship for the family. \n\n\n\n\nSerenity in the Sierras\nJoin us for Serenity in the Sierras\, an uplifting weekend of sober fellowship and family with outdoor adventure in the heart of beautiful Lake Tahoe. This event is a unique opportunity to strengthen your recovery community while enjoying the natural splendor of the Sierra Nevada mountains.
URL:https://thesobercurator.com/event/serenity-in-the-sierras/
LOCATION:1900 Jameson Beach Rd\, 1900 Jameson Beach Rd\, South Lake Tahoe\, CA\, United States
CATEGORIES:California,Lake Tahoe
ATTACH;FMTTYPE=image/webp:https://thesobercurator.com/wp-content/uploads/2026/04/Serenity-in-the-Sierras.avif
END:VEVENT
BEGIN:VEVENT
DTSTART;VALUE=DATE:20260925
DTEND;VALUE=DATE:20260929
DTSTAMP:20260422T170728
CREATED:20260305T042706Z
LAST-MODIFIED:20260305T042706Z
UID:10004508-1790294400-1790639999@thesobercurator.com
SUMMARY:Amazingly Alcohol Free - Palm Springs AF Retreat
DESCRIPTION:Amazingly Alcohol Free – Palm Springs AF Retreat\n  \nOur Palm Springs AF Retreat\, happening September 25–28\, 2026\, is an intimate\, alcohol-free experience designed for connection\, confidence\, and real-life expansion. \nWhat makes this retreat unique is its size and intention. There are only five rooms available in a vibrant private midcentury-modern home in Palm Springs. This is not a large event or conference. It is a thoughtfully curated gathering of women who are choosing to deepen their alcohol-free confidence in a space where they do not have to navigate drinking culture or explain themselves. \nPalm Springs brings a bold 1960s midcentury aesthetic\, desert mountain backdrops\, colorful architecture\, and a timeless sun-soaked energy. Mornings by the pool\, warm desert air\, and expansive skies create a natural reset that feels both grounding and energizing. \nThroughout the weekend\, we will gather in a private home for guided connection conversations\, poolside yoga\, a sound bath experience\, shared meals\, and intentional downtime. The experience balances reflection\, growth\, and relaxation. While there is space to lounge and slow down\, the heart of the retreat is meaningful conversation and stepping into your alcohol-free life in real time. \nGuests will fly into Palm Springs International Airport (PSP)\, approximately five minutes from the retreat home\, or into Los Angeles International Airport (LAX)\, about a two-hour drive depending on traffic. Airfare and transportation are not included. \nThe retreat is hosted by Jaime Andersen\, founder of Amazingly Alcohol-Free. Jaime is an alcohol-free coach and certified Vinyasa yoga instructor who creates intentional spaces that blend mindset work\, movement\, and nervous system support. Her retreats are designed to feel personal\, supportive\, and expansive. \nThis experience is for women ready to deepen their alcohol-free confidence in a powerful\, in-person setting. \n  \nRetreat investment ranges from $1\,800 to $2\,200 depending on room selection. \nRoom options include: \n• Private King or Queen Room with Private Bath – $2\,200\n• Private Room with Shared Bath – $2\,000\n• Shared Queen Room (two beds) with Private Bath – $1\,800 per person \nSelect private rooms may add a second guest for a flat rate of $800 for the additional person. Guests choosing this option must register together. \nA $500 non-refundable deposit secures your selected room and is applied toward the total retreat investment. Payment plans begin 60 days after the deposit\, with monthly automatic payments available. Final balance is due by August 1\, 2026. \nAirfare and transportation are not included. Guests may fly into Palm Springs International Airport (PSP)\, approximately five minutes from the retreat home\, or Los Angeles International Airport (LAX)\, about a two-hour drive depending on traffic. \nThe retreat includes three nights in a private luxury home\, all meals and beverages\, guided connection experiences\, poolside yoga\, a sound bath\, and a fully curated alcohol-free environment
URL:https://thesobercurator.com/event/amazingly-alcohol-free-palm-springs-af-retreat/
LOCATION:Funky Flamingo\, Palm Springs\, CA\, United States
CATEGORIES:California,Palm Springs,Sober Retreats
ATTACH;FMTTYPE=image/png:https://thesobercurator.com/wp-content/uploads/2026/03/Palm-Springs-AF-Retreat.png
ORGANIZER;CN="Jaime Andersen%2C Amazingly Alcohol-Free Programs":MAILTO:jaime@amazinglylalcoholfree.com
END:VEVENT
END:VCALENDAR